BEGIN:VCALENDAR
VERSION:2.0
PRODID:SFPL Web Calendar
BEGIN:VEVENT
UID:34200@sfpl.org
DTSTAMP:20220223T030000Z
DTSTART:20220223T030000Z
DTEND:20220223T040000Z
SUMMARY:Author: Jessamyn Stanley and Tamika Caston-Miller in conversation
DESCRIPTION:<p>Jessamyn Stanley, author, activist and&nbsp;social advocate, discusses her work and book, <a href="https://sfpl.bibliocommons.com/item/show/4791713093"><em><u>Yoke</u></em></a>, with Tamika Caston-Miller, Director and Curator Yogini of <a href="https://www.asheyoga.com/"><u>Ash&eacute; Yoga</u></a>. Stanley&rsquo;s highly anticipated second book, <a href="https://sfpl.bibliocommons.com/item/show/4791713093"><em><u>Yoke: My Yoga of Self-acceptance</u></em></a> (Workman Publishing), is a series of deeply honest, funny, gritty, thoughtful and largely autobiographical essays.<em> Yoke </em>explores issues of self-love, body-positivity, race, sex and sexuality, cannabis and more, all through the lens of an authentic yoga practice.&nbsp;</p>

<p><strong><a href="https://youtu.be/78oNJ-H1P24">Watch on YouTube</a>.&nbsp;</strong></p>

<p><strong>Stanley</strong> is an internationally acclaimed voice in wellness, who is highly sought after for her insights on 21st-century yoga and intersectional identity. Her first book, <a href="https://sfpl.bibliocommons.com/v2/record/S93C3377138">Every Body Yoga: Let Go of Fear, Get On The Mat, Love Your Body</a>, has inspired audiences to discover the power of yoga and set forth on a path for personal development. She is well-versed on a variety of cultural issues including the modern Black experience, LGBTQIA+ representation and equality in the health industry amongst others. She is the co-founder of <a href="https://www.wegohigh.info/"><u>We Go High NC</u></a>, a southern Cannabis Justice organization that works to increase cannabis access in prohibition states like hers, and highlights the natural connection between cannabis consumption&nbsp; and prison abolition.</p>

<p>&nbsp;</p>

<p><strong>Caston-Miller</strong>, Director of&nbsp;<a href="https://avanan.url-protection.com/v1/url?o=https%3A//www.asheyoga.com/&g=NWEwZjAxMzhjNjMxNTQzNA==&h=Mzk2MDEyZmFlMzUyMzM0NDAxMjFiNTFkYzQ1YzlkYTIzYTI5NTc3MTAzNTY3YTdlOGE3OGI3YjAyODAxYmQ1Zg==&p=YXAzOnNmZHQyOmF2YW5hbjpvOjUwMTY5Zjg4OTM2YWExODgxZTE2ODlmYTUxMjIzNjg1OnYxOmg=">Ash&eacute; Yoga</a>&nbsp;and contributor to Yoga Journal&nbsp;is a historian, educator and social justice yogini. Caston-Miller embraces student agency and body diversity to build&nbsp;ash&eacute;, the West African concept of the energy that transforms through authentic asana and meditation practices. Dedicated to the building of compassion and community repair, she co-creates classes, events, workshops and retreats that restore, and trainings that empower people to share their gifts with the world.&nbsp;</p>

<p>Connect</p>

<p><a href="https://jessamynstanley.com/"><u>Jessamyn Stanley - Website</u></a> | <a href="https://www.instagram.com/mynameisjessamyn/"><u>Jessamyn Stanley - Instagram</u></a> | <a href="https://twitter.com/JessamynStan"><u>Jessamyn Stanley - Twitter</u></a></p>

<p><a href="https://www.asheyoga.com/"><u>Tamika Caston-Miller - Website</u></a> | <a href="https://www.instagram.com/diva_transcending/?hl=en"><u>Tamika Caston-Miller - Instagram</u></a></p>

<p>&nbsp;</p>

<p>&nbsp;</p>
LOCATION:Virtual Library
CLASS:PUBLIC
TRANSP:TRANSPARENT
END:VEVENT
BEGIN:VALARM
TRIGGER:-PT1440M
ACTION:DISPLAY
DESCRIPTION:Event Reminder - Author: Jessamyn Stanley and Tamika Caston-Miller in conversation
END:VALARM
END:VCALENDAR