BEGIN:VCALENDAR
VERSION:2.0
PRODID:SFPL Web Calendar
BEGIN:VEVENT
UID:34206@sfpl.org
DTSTAMP:20211211T190000Z
DTSTART:20211211T190000Z
DTEND:20211211T200000Z
SUMMARY:Panel: SF's Girls Chorus presents Tomorrow's Memories
DESCRIPTION:<p>SFPL hosts the launch of the SF Girls Chorus Community&nbsp;Book Club Series celebrating <a href="https://sfpl.bibliocommons.com/v2/search?query=Tomorrow%E2%80%99s+Memories%3A+A+Diary&searchType=smart"><em><u>Tomorrow&rsquo;s Memories: A Diary</u></em></a><em>,</em> by Angeles Monrayo, the true diary of Monrayo, a Filipina girl who immigrated to Hawaii and California in the 1920&rsquo;s. The Diary is the inspiration for a new choral opera by Dr. Matthew Welch, commissioned by SF Girls Chorus and set to premiere in San Francisco in 2022.</p>

<p>&nbsp;</p>

<p><strong><a href="https://youtu.be/F2ezYgpeGIA">Watch on YouTube.&nbsp;</a></strong></p>

<p>&nbsp;</p>

<p>The virtual launch of the book club series is led by <a href="https://www.sfgirlschorus.org/valerie-sainte-agathe"><u>Valerie Sainte-Agathe</u></a>, Artistic Director of the San Francisco Girls Chorus, <a href="http://magictheatre.org/sean-san-jose"><u>Sean San Jose</u></a>, Artistic Director of the Magic Theater, <a href="https://www.littlemanila.org/dillon"><u>Dillon Delvo</u></a>, Executive Director & Co-Founder of Little Manila Rising, <a href="https://sites.google.com/mail.ccsf.edu/professor-villaraza/home"><u>Lily Ann Bolo Villaraza, PhD</u></a>, Department Chair, Philippine Studies Professor of History, and <a href="https://www.sfexaminer.com/news/filipino-american-history-month-we-are-making-our-mark-on-the-united-states/"><u>Abraham Ignacio</u></a>, Librarian of the Filipino American Center at the SF Public Library.</p>

<p>&nbsp;</p>

<p>Additional sessions in the series will feature speakers, organizations and experts in the field such as Kapwa Gardens, University of Hawai`i at Manoa and more. Participants will also hear how the artistic process of making the choral opera will unfold.</p>

<p>&nbsp;</p>

<p>We look forward to seeing you at this launch event and to exploring the important themes and lessons that inform San Francisco Bay Area history and its identity today.</p>

<p>&nbsp;</p>

<p>Connect&nbsp;</p>

<p><a href="https://www.sfgirlschorus.org/"><u>SF Girls Chorus - Website</u></a> | <a href="https://www.instagram.com/sfgirlschorus/"><u>SF Girls Chorus - Instagram</u></a> | <a href="https://www.youtube.com/user/sfgirlschorus"><u>SF Girls Chorus - YouTube</u></a></p>

<p>&nbsp;</p>
LOCATION:Virtual Library
CLASS:PUBLIC
TRANSP:TRANSPARENT
END:VEVENT
BEGIN:VALARM
TRIGGER:-PT1440M
ACTION:DISPLAY
DESCRIPTION:Event Reminder - Panel: SF's Girls Chorus presents Tomorrow's Memories
END:VALARM
END:VCALENDAR