BEGIN:VCALENDAR
VERSION:2.0
PRODID:SFPL Web Calendar
BEGIN:VEVENT
UID:34649@sfpl.org
DTSTAMP:20211211T180000Z
DTSTART:20211211T180000Z
DTEND:20211212T010000Z
SUMMARY:電影: 台灣當代電影大師鍾孟宏作品回顧選
DESCRIPTION:<p>&nbsp; &nbsp; &nbsp; &nbsp; &nbsp; &nbsp;Retrospective Films of Taiwan Director Mong-Hong Chung. Enjoy his&nbsp;unique film aesthetics, black humor, and thoughts on the contemporary family relation in his mini film festival. Followed by a panel discussion on the films.&nbsp;All films will be presented in Mandarin with English subtitles.</p>

<p>&nbsp;台灣當代電影大師鍾孟宏的迷你影展， 一齐来欣賞鍾孟宏電影作品中特有電影美學、黑色幽默及對現代家庭關係的思考並進行小組討論。</p>

<p>&nbsp;</p>

<p>Film Festival Schedule:</p>

<p>10:30 a.m. Introduction</p>

<p>11 a.m.&ndash;1 p.m. <em>The Fourth Portrait </em>(第四張畫), PG-13, 105 mins.(分鐘)., 2010.</p>

<p>1&ndash;3&nbsp;p.m. <em>Soul </em>(失魂), R, 112 mins. (分鐘)., 2013.</p>

<p>3&ndash;5 p.m. <a href="https://sfpl.bibliocommons.com/v2/record/S93C3603338"><em>Godspeed</em></a>《一路順風》, PG-13, 112 mins. (分鐘)., 2016.</p>

<p>5 p.m. Panel Discussion</p>

<p>&nbsp;</p>

<p>This program is provided by a partnership with Two-Way Theater&nbsp;雙向影藝會社 and the Chinese Center of San Francisco Public Library.</p>

<p>For accommodations (such as ASL interpretation or captioning), call (415) 557-4557 or contact accessibility@sfpl.org. Requesting 72 hours in advance will help ensure availability.</p>
LOCATION:Main Library - Koret Auditorium
CLASS:PUBLIC
TRANSP:TRANSPARENT
END:VEVENT
BEGIN:VALARM
TRIGGER:-PT1440M
ACTION:DISPLAY
DESCRIPTION:Event Reminder - 電影: 台灣當代電影大師鍾孟宏作品回顧選
END:VALARM
END:VCALENDAR