BEGIN:VCALENDAR
VERSION:2.0
PRODID:SFPL Web Calendar
BEGIN:VEVENT
UID:37917@sfpl.org
DTSTAMP:20220304T220000Z
DTSTART:20220304T220000Z
DTEND:20220304T230000Z
SUMMARY:Author: Dr. Seema Yasmin and Zahra Noorbakhsh in Conversation
DESCRIPTION:<p>A celebration of <a href="https://sfpl.bibliocommons.com/v2/record/S93C4814858"><em><u>Muslim Women are Everything</u></em></a>, a collection of riveting, inspiring and stereotype-shattering stories that reveal the beauty, diversity and strength of Muslim women both past and present. A not-to-miss discussion with two amazing women, Dr. Seema Yasmin and Zahra Noorbakhsh.&nbsp;</p>

<p>&nbsp;</p>

<p><strong><a href="https://youtu.be/ll9IiSoUR8E"><u>Watch on YouTube</u></a>.</strong></p>

<p>&nbsp;</p>

<p><a href="https://sfpl.bibliocommons.com/v2/search?query=Yasmin%2C%20Seema&searchType=author"><strong><u>Dr. Seema Yasmin</u></strong></a> is an Emmy Award-winning journalist, medical doctor, professor and author. She is director of the <a href="https://healthcommunication.stanford.edu/"><u>Stanford Health Communication Initiative</u></a>, clinical assistant professor in Stanford University&rsquo;s Department of Medicine and visiting professor at the Anderson School of Management at UCLA where she teaches crisis management and communications.</p>

<p>&nbsp;</p>

<p><strong>Zahra Noorbakhsh</strong> is a Feminist Muslim, Iranian-American comedian and cohost of the award-winning podcast, #GoodMuslimBadMuslim. The podcast was listed as a &ldquo;must listen,&rdquo; by <em>Oprah Magazine</em> and was invited to the Obama Whitehouse to record an episode. Noorbakhsh is a Sr. Fellow on comedy for social change with the <a href="https://popcollab.org/"><u>Pop Culture Collaborative</u></a>. In addition to her two sold-out performances of her stand-up comedy special &ldquo;<a href="https://youtu.be/0uRHM9joj-8"><u>On Behalf of All Muslims</u></a>&rdquo; at the Golden Thread Theater in San Francisco, her solo performance of &ldquo;All Atheists are Muslim: A Romantic Comedy,&rdquo; was originally directed by CNN&rsquo;s <a href="https://sfpl.bibliocommons.com/v2/search?query=Bell%2C%20W.%20Kamau&searchType=author"><u>W. Kamau Bell</u></a>.&nbsp;&nbsp;</p>

<p><br />
&nbsp;</p>

<p>Yasmin was a finalist for the Pulitzer Prize in breaking news in 2017 with a team from The Dallas Morning News for coverage of a mass shooting. She is the recipient of two awards from the Pulitzer Center on Crisis Reporting. Her reporting appears in <em>The New York Times</em>, <em>WIRED</em>, <em>Scientific American</em> and other outlets.&nbsp;</p>

<p>&nbsp;</p>

<p>Yasmin is a fiction fellow of the Kundiman and Tin House writing workshops. Her poems and short stories have been published in literary magazines and anthologies including <em>The BreakBeat Poets Vol 3: Halal If You Hear Me</em>, <em>New Moons: Contemporary Writing by North American Muslims</em>, <em>The Georgia Review</em> and others.&nbsp;</p>

<p>&nbsp;</p>

<p>Her scholarly work focuses on the spread of health misinformation and disinformation, the growth of medical and news deserts and the impact on public health. She teaches creative nonfiction including health and science journalism, global health storytelling, practicing medicine with empathy and compassion and advanced clinical communication skills.</p>

<p>&nbsp;</p>

<p>Connect</p>

<p><a href="https://seemayasmin.com/"><u>Dr. Seema Yasmin - Website</u></a> | <a href="https://twitter.com/DoctorYasmin"><u>Dr. Seema Yasmin - Twitter</u></a> | <a href="https://www.instagram.com/drseemayasmin/?hl=en"><u>Dr. Seema Yasmin - Instagram</u></a></p>

<p><br />
<a href="https://www.zahracomedy.com/"><u>Zahra Noorbakhsh - Website</u></a> | <a href="https://twitter.com/ZahraComedy"><u>Zahra Noorbakhsh - Twitter</u></a> | <a href="http://instagram.com/zahracomedy"><u>Zahra Noorbakhsh - Instagram</u></a></p>
LOCATION:Virtual Library
CLASS:PUBLIC
TRANSP:TRANSPARENT
END:VEVENT
BEGIN:VALARM
TRIGGER:-PT1440M
ACTION:DISPLAY
DESCRIPTION:Event Reminder - Author: Dr. Seema Yasmin and Zahra Noorbakhsh in Conversation
END:VALARM
END:VCALENDAR