BEGIN:VCALENDAR
VERSION:2.0
PRODID:SFPL Web Calendar
BEGIN:VEVENT
UID:38439@sfpl.org
DTSTAMP:20220408T010000Z
DTSTART:20220408T010000Z
DTEND:20220408T023000Z
SUMMARY:Book Club: World Literature, Claudia Rankine’s Citizen
DESCRIPTION:<p>We discuss <em><a href="https://sfpl.bibliocommons.com/v2/search?custom_edit=false&query=%28title%3A%28citizen%29+AND+contributor%3A%28rankine%29+%29&searchType=bl&suppress=true"><u>Citizen</u></a></em>, <a href="https://sfpl.bibliocommons.com/v2/search?query=Rankine%2C%20Claudia&searchType=author"><u>Claudia Rankine</u></a>&rsquo;s acclaimed poetic meditation on race in the United States.</p>

<p><a href="https://sfpl.bibliocommons.com/list/share/377327687_sfpl_johns/572513107_world_literature_book_club"><strong><u>World Literature Book Club reading list</u></strong></a></p>

<p>&nbsp;</p>
LOCATION:Virtual Library
CLASS:PUBLIC
TRANSP:TRANSPARENT
END:VEVENT
BEGIN:VALARM
TRIGGER:-PT1440M
ACTION:DISPLAY
DESCRIPTION:Event Reminder - Book Club: World Literature, Claudia Rankine’s Citizen
END:VALARM
END:VCALENDAR