BEGIN:VCALENDAR
VERSION:2.0
PRODID:SFPL Web Calendar
BEGIN:VEVENT
UID:41336@sfpl.org
DTSTAMP:20220914T000000Z
DTSTART:20220914T000000Z
DTEND:20220914T010000Z
SUMMARY:Panel: How does nonprofit journalism work?
DESCRIPTION:<p>The nonprofit news model is growing nationwide, giving rise to local and national coverage from newsrooms that are independent of the motivations of shareholders&nbsp;and advertisers. A panel of journalists from nonprofit news group El T&iacute;mpano, Mission Local and San Jos&eacute; Spotlight will describe their goals, successes, and challenges.</p>

<p>A staffperson will moderate the discussion, and there will be a question and answer period.</p>

<p><strong><a href="https://www.eltimpano.org/">El T&iacute;mpano</a> </strong>works in collaboration with residents and community partners to create empowering, two-way channels of information that inform and engage the Bay Area&rsquo;s Latino and Mayan immigrants.</p>

<p>Since 2008, <strong><a href="https://missionlocal.org/">Mission Local</a></strong>, an independent news site based in the Mission District, has been focused on high-impact, enterprise reporting on everything from police reform to corruption at City Hall, housing, education and now the pandemic.</p>

<p><strong><a href="https://sanjosespotlight.com/">San Jos&eacute; Spotlight</a></strong> is San Jose's first nonprofit news organization dedicated to independent political and business reporting. Their mission is to change the face of local journalism by building a community-supported newsroom that ignites civic engagement, educates citizens and strengthens our democracy.</p>

<p>&nbsp;</p>

<p>Connect:</p>

<p><a href="https://www.eltimpano.org/">El Timpano - Website</a> | <a href="https://twitter.com/el_timpano">El Timpano - Twitter</a> | <a href="https://www.instagram.com/eltimpano_oakland/">El Timpano - Instagram</a></p>

<p><a href="https://missionlocal.org/">Mission Local - Website</a> |&nbsp; <a href="https://twitter.com/MLNow">Mission Local - Twitter</a>&nbsp; | <a href="https://www.instagram.com/missionlocal/">Mission Local - Instagram</a></p>

<p><a href="https://t.co/xRAC2OmcHA">San Jos&eacute; Spotlight - Website</a> |&nbsp; <a href="https://twitter.com/sjspotlight">San Jos&eacute; Spotlight - Twitter</a> | <a href="https://www.instagram.com/sjspotlight/">Spotlight San Jos&eacute; - Instagram</a></p>

<p>&nbsp;</p>

<p>&nbsp;</p>
LOCATION:Main Library - Koret Auditorium
CLASS:PUBLIC
TRANSP:TRANSPARENT
END:VEVENT
BEGIN:VALARM
TRIGGER:-PT1440M
ACTION:DISPLAY
DESCRIPTION:Event Reminder - Panel: How does nonprofit journalism work?
END:VALARM
END:VCALENDAR