BEGIN:VCALENDAR
VERSION:2.0
PRODID:SFPL Web Calendar
BEGIN:VEVENT
UID:45437@sfpl.org
DTSTAMP:20230506T200000Z
DTSTART:20230506T200000Z
DTEND:20230506T210000Z
SUMMARY:Presentation: Yatate: Artistry • Craftsmanship • Utility
DESCRIPTION:<p>Robert De Maria presents about the yatate&nbsp;which&nbsp;was the Japanese pre-modern portable writing instrument&nbsp;or kit in wide use in Japan from about the late thirteenth century to the early twentieth century.&nbsp;Over the centuries as Japan&nbsp;moved toward unity and a distinctive&nbsp;national&nbsp;identity, the yatate remained intertwined with the country's development of its singular culture, traditions and language. The yatate was essential to&nbsp;everyday life and was used by both men and women, pilgrims, warriors, merchants, poets and anyone needing to write on the road.</p>

<p>Robert De Maria&nbsp;began collecting yatate while living and working in Japan and Singapore.&nbsp;During those years he traveled extensively in Asia with an emphasis on East Asia.&nbsp;His interest in Japanese history,&nbsp;literature, folktales and on-going travel complement his collecting.</p>

<p>Connect:&nbsp;<a href="https://www.yatatekokusai.com/">Yatate Kokusai - website</a></p>

<p>&nbsp;</p>

<p>&nbsp;</p>
LOCATION:Main Library - Latino/Hispanic Meeting Room A
CLASS:PUBLIC
TRANSP:TRANSPARENT
END:VEVENT
BEGIN:VALARM
TRIGGER:-PT1440M
ACTION:DISPLAY
DESCRIPTION:Event Reminder - Presentation: Yatate: Artistry • Craftsmanship • Utility
END:VALARM
END:VCALENDAR