BEGIN:VCALENDAR
VERSION:2.0
PRODID:SFPL Web Calendar
BEGIN:VEVENT
UID:45762@sfpl.org
DTSTAMP:20230517T013000Z
DTSTART:20230517T013000Z
DTEND:20230517T023000Z
SUMMARY:Presentation: Seeking the Divine: Deities of Asian Religions
DESCRIPTION:<p>For thousands of years artists have envisioned the divine, imbuing it with forms that are meant to reflect supernatural qualities. Join us for a fascinating journey as we explore how ideal beauty is interpreted in different Asian cultures and transformed by altering the forms of the body. &nbsp;<br />
<br />
<br />
&nbsp;</p>
LOCATION:Virtual Library
CLASS:PUBLIC
TRANSP:TRANSPARENT
END:VEVENT
BEGIN:VALARM
TRIGGER:-PT1440M
ACTION:DISPLAY
DESCRIPTION:Event Reminder - Presentation: Seeking the Divine: Deities of Asian Religions
END:VALARM
END:VCALENDAR