BEGIN:VCALENDAR
VERSION:2.0
PRODID:SFPL Web Calendar
BEGIN:VEVENT
UID:46791@sfpl.org
DTSTAMP:20230106T220000Z
DTSTART:20230106T220000Z
DTEND:20230106T230000Z
SUMMARY:Activity: Beginners Tai Chi with Patrick Lau
DESCRIPTION:<p>Tai Chi may help improve your overall health, fitness, balance, flexibility, coordination and posture.&nbsp;</p>

<p>Space is limited. Reservations required: 415-355-2808.</p>
LOCATION:Sunset - Sunset General Floor Area
CLASS:PUBLIC
TRANSP:TRANSPARENT
END:VEVENT
BEGIN:VALARM
TRIGGER:-PT1440M
ACTION:DISPLAY
DESCRIPTION:Event Reminder - Activity: Beginners Tai Chi with Patrick Lau
END:VALARM
END:VCALENDAR