BEGIN:VCALENDAR
VERSION:2.0
PRODID:SFPL Web Calendar
BEGIN:VEVENT
UID:47209@sfpl.org
DTSTAMP:20230111T233000Z
DTSTART:20230111T233000Z
DTEND:20230112T003000Z
SUMMARY:Workshop: Origami
DESCRIPTION:<p>Learn how to make different creations using origami paper.&nbsp;This unique art form teaches you endless ideas from Ninja Stars to paper roses. For ages 10&ndash;18. Join us and have fun.&nbsp;&nbsp;</p>
LOCATION:North Beach - North Beach Library Community Room
CLASS:PUBLIC
TRANSP:TRANSPARENT
END:VEVENT
BEGIN:VALARM
TRIGGER:-PT1440M
ACTION:DISPLAY
DESCRIPTION:Event Reminder - Workshop: Origami
END:VALARM
END:VCALENDAR