BEGIN:VCALENDAR
VERSION:2.0
PRODID:SFPL Web Calendar
BEGIN:VEVENT
UID:47364@sfpl.org
DTSTAMP:20230216T010000Z
DTSTART:20230216T010000Z
DTEND:20230216T040000Z
SUMMARY:Celebration: Drumbeats, Heartbeats: Communities As One
DESCRIPTION:<p>A celebration of Black History Month and the Lunar New Year.</p>

<p>There will be music and food, and an opportunity to share in this combined celebration of cultures with great people from around the City.</p>

<p>Featuring&nbsp;</p>

<p>Ruby Ibarra</p>

<p>Kyle Shin, son of Paper</p>

<p>Howard Wiley, Tenor Saxophone&nbsp;and Jon Jang, Piano</p>

<p>Duniya Dance Company</p>

<p>LionDanceME</p>

<p>The event is free and registration is required.&nbsp;</p>

<p>A partnership with the San Francisco Human Rights Commission, Office of London N. Breed, Booker T. Washington&nbsp;Community Service Center, APA Heritage Foundation, Chinese Historical Society of America, University of San Francisco and Both Sides of the Conversation.&nbsp;&nbsp;&nbsp;</p>

<p>&nbsp;</p>
LOCATION:Main Library - Koret Auditorium
CLASS:PUBLIC
TRANSP:TRANSPARENT
END:VEVENT
BEGIN:VALARM
TRIGGER:-PT1440M
ACTION:DISPLAY
DESCRIPTION:Event Reminder - Celebration: Drumbeats, Heartbeats: Communities As One
END:VALARM
END:VCALENDAR