BEGIN:VCALENDAR
VERSION:2.0
PRODID:SFPL Web Calendar
BEGIN:VEVENT
UID:47396@sfpl.org
DTSTAMP:20230108T220000Z
DTSTART:20230108T220000Z
DTEND:20230109T000000Z
SUMMARY:Social: Quarterly Plant and Seed Exchange
DESCRIPTION:<p>January is a perfect time to start planning your summer garden. Select seeds and propagate your&nbsp;own seedlings. Trade plants, share cuttings, starts, bulbs, full-sized plants or seeds with your fellow gardeners. Please label your plants so we know what they are. This plant exchange was made possible by a generous donation of seeds from: <a href="https://www.rareseeds.com/?utm_source=google&utm_medium=cpc&utm_campaign=17720394618&utm_content=142403476447&utm_term=&campaign_name={campaignname}&gclid=CjwKCAjwg5uZBhATEiwAhhRLHj6HblK0e9fhB0ho3pLOBLIgesUAIYIS5RRQy6DU-E6Ntwa39_-jYhoCGCIQAvD_BwE">Baker Creek Heirloom Seeds</a>,<a href="https://kitazawaseed.com/"> Kitazawa&nbsp;Seed Co</a>.,&nbsp;<a href="https://sowrightseeds.com/">Sow Right Seeds</a>, <a href="https://www.trueleafmarket.com/?gclid=CjwKCAjwg5uZBhATEiwAhhRLHoQtdr3D_xKVQsaJWUpvSfGtLW44RbfH1jMaA2BCnip2WWcU1m5oNhoCaLIQAvD_BwE">True Leaf Market</a> and <a href="https://www.seedsavers.org/">Seed Savers Exchange</a>.</p>
LOCATION:Mission Bay - Mission Bay Program Room
CLASS:PUBLIC
TRANSP:TRANSPARENT
END:VEVENT
BEGIN:VALARM
TRIGGER:-PT1440M
ACTION:DISPLAY
DESCRIPTION:Event Reminder - Social: Quarterly Plant and Seed Exchange
END:VALARM
END:VCALENDAR