BEGIN:VCALENDAR
VERSION:2.0
PRODID:SFPL Web Calendar
BEGIN:VEVENT
UID:47609@sfpl.org
DTSTAMP:20230111T230000Z
DTSTART:20230111T230000Z
DTEND:20230112T000000Z
SUMMARY:Book Club: Cozy Capers & Mysteries
DESCRIPTION:<p>A monthly discussion on crime novels featuring amateur sleuths, quirky characters and homey communities. This month's novel, <a href="https://sfpl.bibliocommons.com/v2/record/S93C5397700"><em>The Paper Caper</em></a> by Kate Carlisle, is&nbsp;part of the&nbsp;Bibliophile Mystery series set in San Francisco. Book-restoration expert Brooklyn Wainwright investigates when murder transpires at the first annual Mark Twain Festival underwritten by media magnate Joseph Cabot.&nbsp;</p>
LOCATION:Presidio - Presidio Meeting Room
CLASS:PUBLIC
TRANSP:TRANSPARENT
END:VEVENT
BEGIN:VALARM
TRIGGER:-PT1440M
ACTION:DISPLAY
DESCRIPTION:Event Reminder - Book Club: Cozy Capers & Mysteries
END:VALARM
END:VCALENDAR