BEGIN:VCALENDAR
VERSION:2.0
PRODID:SFPL Web Calendar
BEGIN:VEVENT
UID:47617@sfpl.org
DTSTAMP:20231010T220000Z
DTSTART:20231010T220000Z
DTEND:20231010T230000Z
SUMMARY:Book Club: Cozy Capers & Mysteries
DESCRIPTION:<p>A monthly discussion on crime novels featuring amateur sleuths, quirky characters and homey communities.&nbsp;This month&rsquo;s novel is <a href="https://sfpl.bibliocommons.com/v2/record/S93C4880030"><em>Murder at Mallowan Hall</em></a> by Colleen Cambridge. Phyllida Bright is the housekeeper for archaeologist Max Mallowan and his famous wife, Agatha Christie. She faces murder and mayhem during a weekend party and assembles the household staff to find the killer among the Mallowan's guests.&nbsp;</p>

<p><strong>Starting in October 2023, this book club will meet on the second Tuesday of the month. Note the new date (Tuesday, October 10) above.</strong></p>
LOCATION:Presidio - Presidio Meeting Room
CLASS:PUBLIC
TRANSP:TRANSPARENT
END:VEVENT
BEGIN:VALARM
TRIGGER:-PT1440M
ACTION:DISPLAY
DESCRIPTION:Event Reminder - Book Club: Cozy Capers & Mysteries
END:VALARM
END:VCALENDAR