BEGIN:VCALENDAR
VERSION:2.0
PRODID:SFPL Web Calendar
BEGIN:VEVENT
UID:48114@sfpl.org
DTSTAMP:20230518T224500Z
DTSTART:20230518T224500Z
DTEND:20230518T233000Z
SUMMARY:Performance: Halau Ha'a Kea o Kinohi
DESCRIPTION:<p>Watch Halau Ha'a Kea o Kinohi perform&nbsp;hula (native Hawaiian dance), with a cultural presentation about the meaning and history of hula. Participation encouraged. For ages 8&ndash;12. Space limited. Group reservations required: (415) 355-2889.</p>
LOCATION:Chinatown/Him Mark Lai - Chinatown Meeting Room
CLASS:PUBLIC
TRANSP:TRANSPARENT
END:VEVENT
BEGIN:VALARM
TRIGGER:-PT1440M
ACTION:DISPLAY
DESCRIPTION:Event Reminder - Performance: Halau Ha'a Kea o Kinohi
END:VALARM
END:VCALENDAR