BEGIN:VCALENDAR
VERSION:2.0
PRODID:SFPL Web Calendar
BEGIN:VEVENT
UID:48130@sfpl.org
DTSTAMP:20230224T220000Z
DTSTART:20230224T220000Z
DTEND:20230224T233000Z
SUMMARY:工作坊: 加州預設醫療指示
DESCRIPTION:<p>如何保障自己的醫療權益。準備好自己的預設醫療指示書, 讓親人了解您的醫療照護意願, 是送給家人最好的禮物。該活動由安老自助處提供, 粵語講解。報名請電415-355-2888。<br />
<br />
Protect your medical decision rights. Prepare your Advance Health Care Directive and let your family know your health care decisions. Presentation in Cantonese and made possible by Self-Help for the Elderly. Reservations required: (415) 355-2888.&nbsp;</p>
LOCATION:Chinatown/Him Mark Lai - Chinatown Meeting Room
CLASS:PUBLIC
TRANSP:TRANSPARENT
END:VEVENT
BEGIN:VALARM
TRIGGER:-PT1440M
ACTION:DISPLAY
DESCRIPTION:Event Reminder - 工作坊: 加州預設醫療指示
END:VALARM
END:VCALENDAR