BEGIN:VCALENDAR
VERSION:2.0
PRODID:SFPL Web Calendar
BEGIN:VEVENT
UID:50663@sfpl.org
DTSTAMP:20231216T190000Z
DTSTART:20231216T190000Z
DTEND:20231216T200000Z
SUMMARY:Book Club: The Marriage Portrait
DESCRIPTION:<p>We discuss Maggie O'Farrell's <a href="https://sfpl.bibliocommons.com/v2/record/S93C5359255"><em>The Marriage Portrait</em></a>, a&nbsp;novel set in Renaissance Italy, centering on the captivating young duchess Lucrezia de' Medici.</p>
LOCATION:Ortega - Ortega Meeting Room
CLASS:PUBLIC
TRANSP:TRANSPARENT
END:VEVENT
BEGIN:VALARM
TRIGGER:-PT1440M
ACTION:DISPLAY
DESCRIPTION:Event Reminder - Book Club: The Marriage Portrait
END:VALARM
END:VCALENDAR