BEGIN:VCALENDAR
VERSION:2.0
PRODID:SFPL Web Calendar
BEGIN:VEVENT
UID:51161@sfpl.org
DTSTAMP:20230523T230000Z
DTSTART:20230523T230000Z
DTEND:20230524T003000Z
SUMMARY:Book Club: Visitacion Valley Readers, Julie Otsuka's The Swimmers
DESCRIPTION:<p>We will discuss Julie Otsuka's <a href="https://sfpl.bibliocommons.com/v2/record/S93C5059356"><em>The Swimmers</em></a><em>. </em>Otsuka&nbsp;delivers a&nbsp;tender story of a group of swimmers who cope with the disruption of their routines in various ways, with particular emphasis on a central character's Japanese American family caring for a loved one with dementia.</p>

<p>Copies of the book will be available for check out at the reference desk. Refreshments provided by Mission Blue Coffee.</p>
LOCATION:Visitacion Valley - Visitacion Valley Meeting Room
CLASS:PUBLIC
TRANSP:TRANSPARENT
END:VEVENT
BEGIN:VALARM
TRIGGER:-PT1440M
ACTION:DISPLAY
DESCRIPTION:Event Reminder - Book Club: Visitacion Valley Readers, Julie Otsuka's The Swimmers
END:VALARM
END:VCALENDAR