BEGIN:VCALENDAR
VERSION:2.0
PRODID:SFPL Web Calendar
BEGIN:VEVENT
UID:51818@sfpl.org
DTSTAMP:20230511T190000Z
DTSTART:20230511T190000Z
DTEND:20230511T210000Z
SUMMARY:Film: Ford v Ferrari
DESCRIPTION:<p>American car designer Carroll Shelby and driver Ken Miles battle corporate interference and the laws of physics to build a revolutionary race car for Ford in order to defeat Ferrari at the 24 Hours of Le Mans in 1966.</p>

<p>Director: James Mangold</p>

<p>Stars: Matt Damon, Christian Bale, Jon Bernthal</p>

<p>Rated: PG-13, 152&nbsp;mins., 2019</p>
LOCATION:Main Library - Koret Auditorium
CLASS:PUBLIC
TRANSP:TRANSPARENT
END:VEVENT
BEGIN:VALARM
TRIGGER:-PT1440M
ACTION:DISPLAY
DESCRIPTION:Event Reminder - Film: Ford v Ferrari
END:VALARM
END:VCALENDAR