BEGIN:VCALENDAR
VERSION:2.0
PRODID:SFPL Web Calendar
BEGIN:VEVENT
UID:51819@sfpl.org
DTSTAMP:20230518T190000Z
DTSTART:20230518T190000Z
DTEND:20230518T210000Z
SUMMARY:Film: Thelma & Louise
DESCRIPTION:<p>Two best friends set out on an adventure, but it soon turns around to a terrifying escape from being hunted by the police, as the characters escape for the crimes they committed.</p>

<p>Director: Ridley Scott</p>

<p>Stars: Susan Sarandon, Geena Davis, Harvey Keitel</p>

<p>Rated: R, 130 mins., 1991<br />
&nbsp;</p>
LOCATION:Main Library - Latino/Hispanic Meeting Room A
CLASS:PUBLIC
TRANSP:TRANSPARENT
END:VEVENT
BEGIN:VALARM
TRIGGER:-PT1440M
ACTION:DISPLAY
DESCRIPTION:Event Reminder - Film: Thelma & Louise
END:VALARM
END:VCALENDAR