BEGIN:VCALENDAR
VERSION:2.0
PRODID:SFPL Web Calendar
BEGIN:VEVENT
UID:51851@sfpl.org
DTSTAMP:20240104T200000Z
DTSTART:20240104T200000Z
DTEND:20240104T220000Z
SUMMARY:Film: Catch-22
DESCRIPTION:<p>A man is trying desperately to be certified insane during World War II, so he can stop flying missions.</p>

<p>Director: Mike Nichols</p>

<p>Stars: Alan Arkin, Martin Balsam, Richard Benjamin</p>

<p>Rated: R, 122 mins., 1970.&nbsp;Closed captions (CC) in English.</p>

<p>&nbsp;</p>
LOCATION:Main Library - Latino/Hispanic Meeting Room A
CLASS:PUBLIC
TRANSP:TRANSPARENT
END:VEVENT
BEGIN:VALARM
TRIGGER:-PT1440M
ACTION:DISPLAY
DESCRIPTION:Event Reminder - Film: Catch-22
END:VALARM
END:VCALENDAR