BEGIN:VCALENDAR
VERSION:2.0
PRODID:SFPL Web Calendar
BEGIN:VEVENT
UID:52073@sfpl.org
DTSTAMP:20230505T210000Z
DTSTART:20230505T210000Z
DTEND:20230505T220000Z
SUMMARY:Activity: Hand Hygiene Felt Bacteria Craft
DESCRIPTION:<p>Learn about germs and how to protect yourself from them as we celebrate World Hand Hygiene Day. Create your own felt superbug&nbsp;to remind yourself to wash your hands. For ages 6&ndash;12.</p>
LOCATION:Sunset - Sunset Program Room
CLASS:PUBLIC
TRANSP:TRANSPARENT
END:VEVENT
BEGIN:VALARM
TRIGGER:-PT1440M
ACTION:DISPLAY
DESCRIPTION:Event Reminder - Activity: Hand Hygiene Felt Bacteria Craft
END:VALARM
END:VCALENDAR