BEGIN:VCALENDAR
VERSION:2.0
PRODID:SFPL Web Calendar
BEGIN:VEVENT
UID:53005@sfpl.org
DTSTAMP:20230428T200000Z
DTSTART:20230428T200000Z
DTEND:20230428T213000Z
SUMMARY:Tutorial: Tablet/Smartphone Class for Older Adults 60+
DESCRIPTION:<p>This is a workshop presented by Self-Help for the Elderly. Instructor is fluent in Cantonese and Mandarin. Please bring your own tablet or smartphone.&nbsp;Device Type: Android</p>

<p>這個課堂是由 安老自助處 Self-Help for the Elderly提供. 教課老師能流利使用粵語及普通話上課. 請携帶您自己的安卓設備.&nbsp;設備: Android/安卓</p>

<p>Class Language: Chinese (Cantonese/ Mandarin)</p>

<p>語言: 中文 (廣東話/ 普通話)</p>

<p>Topic 主題: Settings, Internet Connection & Keyboard/設置 網絡連接與鍵盤</p>

<ul>
	<li>How to connect to internet?/如何連接到網絡?</li>
	<li>Language and keyboard Settings/鍵盤和語言設置</li>
</ul>

<p>Space is limited. Reservations required: (415) 355-2808 (starting April 1st)</p>

<p>座位有限. 需提早預約: (415)355-2808 (4月1號開始接受預約)</p>
LOCATION:Sunset - Sunset Program Room
CLASS:PUBLIC
TRANSP:TRANSPARENT
END:VEVENT
BEGIN:VALARM
TRIGGER:-PT1440M
ACTION:DISPLAY
DESCRIPTION:Event Reminder - Tutorial: Tablet/Smartphone Class for Older Adults 60+
END:VALARM
END:VCALENDAR