BEGIN:VCALENDAR
VERSION:2.0
PRODID:SFPL Web Calendar
BEGIN:VEVENT
UID:53934@sfpl.org
DTSTAMP:20230625T223000Z
DTSTART:20230625T223000Z
DTEND:20230625T233000Z
SUMMARY:Book Club: Somewhere in Time historical fiction
DESCRIPTION:<p>If you enjoy some history in your fiction, spend an hour hashing out the details of&mdash;and the history behind&mdash;this month&rsquo;s novel, Jordy Rosenberg's&nbsp;<a href="https://sfpl.bibliocommons.com/v2/record/S93C3609229"><em>Confessions of the Fox</em></a>. Modern academic Dr. Voth&nbsp;discovers a mysterious stack of papers from&nbsp;1724 titled <em>Confessions of the Fox</em> that&nbsp;tells&nbsp;the story of an orphan named P. who was sold into servitude at twelve, struggled&nbsp;for years with the&nbsp;desire to live as "Jack" and eventually became&nbsp;Jack Sheppard, one of the most notorious&mdash;and most wanted&mdash;thieves in history.&nbsp;</p>

<p><strong>This is a hybrid event. Registration is required for Zoom attendance. In-person attendance does not require registration.</strong></p>
LOCATION:Eureka Valley/Harvey Milk Memorial - Eureka Valley General Floor Area
CLASS:PUBLIC
TRANSP:TRANSPARENT
END:VEVENT
BEGIN:VALARM
TRIGGER:-PT1440M
ACTION:DISPLAY
DESCRIPTION:Event Reminder - Book Club: Somewhere in Time historical fiction
END:VALARM
END:VCALENDAR