BEGIN:VCALENDAR
VERSION:2.0
PRODID:SFPL Web Calendar
BEGIN:VEVENT
UID:53949@sfpl.org
DTSTAMP:20230513T200000Z
DTSTART:20230513T200000Z
DTEND:20230513T220000Z
SUMMARY:Performance: Guru Shradha Ensemble
DESCRIPTION:<p>Guru Shradha Ensemble&nbsp;present the Odissi dance, the oldest surviving classical form of&nbsp;Indian dance from the Eastern India state of Odisha. With roots in the East Indian state of Odisha traced back to the 2nd century A.D, Guru Shradha&rsquo;s establishment in the San Francisco Bay Area enables a unique connection of deep history and modernity within an artistic community of immense diversity. Since its inception in 2008, Guru Shradha has developed into a premier Odissi institution in North America, providing a near-immersive Odissi experience to its students and the Bay area community and has received the Best of Palo Alto 2019 Award for best dance school.</p>
LOCATION:Richmond/Senator Milton Marks - Richmond Meeting Room
CLASS:PUBLIC
TRANSP:TRANSPARENT
END:VEVENT
BEGIN:VALARM
TRIGGER:-PT1440M
ACTION:DISPLAY
DESCRIPTION:Event Reminder - Performance: Guru Shradha Ensemble
END:VALARM
END:VCALENDAR