BEGIN:VCALENDAR
VERSION:2.0
PRODID:SFPL Web Calendar
BEGIN:VEVENT
UID:54637@sfpl.org
DTSTAMP:20230505T170000Z
DTSTART:20230505T170000Z
DTEND:20230505T180000Z
SUMMARY:Presentation: Housing Rights
DESCRIPTION:<p>Learn more about San Francisco housing rights and resources with Chinatown CDC&rsquo;s Housing Counseling. The Chinatown's CDC provides information on housing applications, harness tenants&rsquo; organizing power, advocate for affordable housing and educate on housing rights.</p>

<p>華協中心房屋輔導服務致力提高低收入住客的生活質素及住屋環境。除了提供房屋申請資訊外，我們也會加強住客本身的組織能力，爭取保持可負擔房屋和教育房屋權利。</p>
LOCATION:Virtual Library
CLASS:PUBLIC
TRANSP:TRANSPARENT
END:VEVENT
BEGIN:VALARM
TRIGGER:-PT1440M
ACTION:DISPLAY
DESCRIPTION:Event Reminder - Presentation: Housing Rights
END:VALARM
END:VCALENDAR