BEGIN:VCALENDAR
VERSION:2.0
PRODID:SFPL Web Calendar
BEGIN:VEVENT
UID:55247@sfpl.org
DTSTAMP:20230519T010000Z
DTSTART:20230519T010000Z
DTEND:20230519T023000Z
SUMMARY:Book Club: Literate Goat
DESCRIPTION:<p>Gather at the library on "Goat Hill" every third Thursday to discuss fabulous literature. New title selected via vote two months in advance.&nbsp;</p>
LOCATION:Potrero - Potrero Meeting Room
CLASS:PUBLIC
TRANSP:TRANSPARENT
END:VEVENT
BEGIN:VALARM
TRIGGER:-PT1440M
ACTION:DISPLAY
DESCRIPTION:Event Reminder - Book Club: Literate Goat
END:VALARM
END:VCALENDAR