BEGIN:VCALENDAR
VERSION:2.0
PRODID:SFPL Web Calendar
BEGIN:VEVENT
UID:55917@sfpl.org
DTSTAMP:20230518T230000Z
DTSTART:20230518T230000Z
DTEND:20230519T013000Z
SUMMARY:Film: Center Stage: Ruan Ling Yu
DESCRIPTION:<p>International superstar Maggie Cheung (<em>In the Mood for Love</em>) embodies tragic screen siren Ruan Lingyu (1910-1935), known as the "Greta Garbo of China," in this unconventional biopic by Hong Kong New Wave master Stanley Kwan. Kwan and Cheung paint a kaleidoscopic yet intimate portrait of the ill-fated actress, deftly blending lush period drama, archival footage and metatextual documentary sequences of Cheung reflecting on Ruan&rsquo;s legacy. Rotten Tomatoes rating of 92%.</p>

<p>"Tender, vivid and almost overwhelmingly moving" &mdash; Time Out</p>

<p>NR, 154 min., 1991. Closed captions (CC) in English.</p>
LOCATION:Richmond/Senator Milton Marks - Richmond Meeting Room
CLASS:PUBLIC
TRANSP:TRANSPARENT
END:VEVENT
BEGIN:VALARM
TRIGGER:-PT1440M
ACTION:DISPLAY
DESCRIPTION:Event Reminder - Film: Center Stage: Ruan Ling Yu
END:VALARM
END:VCALENDAR