BEGIN:VCALENDAR
VERSION:2.0
PRODID:SFPL Web Calendar
BEGIN:VEVENT
UID:55920@sfpl.org
DTSTAMP:20230429T193000Z
DTSTART:20230429T193000Z
DTEND:20230429T233000Z
SUMMARY:Activity: Chess Tournament
DESCRIPTION:<p>Play in a USCF-regulation tournament, open&nbsp;to ages 5&ndash;18.</p>

<p>To register, email <a href="mailto:vincent@bkchessclub.org">contact@bkchessclub.org</a> and provide player's name, age, section (beginner, novice, or USCF), USCF number (if applicable) and parent/guardian name.</p>

<p>Program is now full. We are no longer taking signups.</p>
LOCATION:Ortega - Ortega Meeting Room
CLASS:PUBLIC
TRANSP:TRANSPARENT
END:VEVENT
BEGIN:VALARM
TRIGGER:-PT1440M
ACTION:DISPLAY
DESCRIPTION:Event Reminder - Activity: Chess Tournament
END:VALARM
END:VCALENDAR