BEGIN:VCALENDAR
VERSION:2.0
PRODID:SFPL Web Calendar
BEGIN:VEVENT
UID:55947@sfpl.org
DTSTAMP:20230521T210000Z
DTSTART:20230521T210000Z
DTEND:20230521T220000Z
SUMMARY:Workshop: Origami Flower
DESCRIPTION:<p>Learn how to fold a 3D lotus flower out of paper. The Lotus flower is regarded as a&nbsp;sacred for purity, rebirth&nbsp;and strength.&nbsp;</p>

<p>Space limited. Reservations required: (415) 355-5660.</p>
LOCATION:Portola - Portola Meeting Room
CLASS:PUBLIC
TRANSP:TRANSPARENT
END:VEVENT
BEGIN:VALARM
TRIGGER:-PT1440M
ACTION:DISPLAY
DESCRIPTION:Event Reminder - Workshop: Origami Flower
END:VALARM
END:VCALENDAR