BEGIN:VCALENDAR
VERSION:2.0
PRODID:SFPL Web Calendar
BEGIN:VEVENT
UID:56085@sfpl.org
DTSTAMP:20230520T200000Z
DTSTART:20230520T200000Z
DTEND:20230520T210000Z
SUMMARY:Workshop: Origami Books with Esther Kwan
DESCRIPTION:<p>Make simple folds that become a fanciful accordion book.</p>

<p>Space limited. Reservations required: (415) 355-5666.</p>
LOCATION:Golden Gate Valley - Golden Gate Valley Meeting Room
CLASS:PUBLIC
TRANSP:TRANSPARENT
END:VEVENT
BEGIN:VALARM
TRIGGER:-PT1440M
ACTION:DISPLAY
DESCRIPTION:Event Reminder - Workshop: Origami Books with Esther Kwan
END:VALARM
END:VCALENDAR