BEGIN:VCALENDAR
VERSION:2.0
PRODID:SFPL Web Calendar
BEGIN:VEVENT
UID:56096@sfpl.org
DTSTAMP:20230430T230000Z
DTSTART:20230430T230000Z
DTEND:20230501T003000Z
SUMMARY:Performance: The West Revisits Harlem
DESCRIPTION:<p>Black poets gather to be protagonists of a modern renaissance. Featured readers include Tshaka Campbell, Dont&eacute; Clark, <a href="https://sfpl.bibliocommons.com/v2/record/S93C5395993">Meilani Clay</a>, <a href="https://sfpl.bibliocommons.com/v2/search?custom_edit=false&query=contributor%3A%28Eisen-Martin%2C+Tongo%29&searchType=bl&suppress=true">Tongo Eisen-Martin</a>, A'aron Heard, LadiRev and <a href="https://sfpl.bibliocommons.com/v2/record/S93C5395992">Landon Smith</a>.</p>

<p><strong>Tongo Eisen-Martin</strong>, San Francisco's current&nbsp;Poet Laureate, is a poet, movement worker and educator. His latest curriculum on extrajudicial killing of Black people,&nbsp;<a href="http://www.operationghettostorm.org/curriculum.html"><em>We Charge Genocide Again</em></a>, has been used as an educational and organizing tool throughout the country. <a href="https://sfpl.bibliocommons.com/v2/record/S93C4865986"><em>Blood on the Fog</em></a>&nbsp;is his newest collection of poems.</p>

<p><strong>Tshaka Campbel</strong>l is an internationally accomplished poet, artist, performer and Santa Clara County Poet Laureate. He is a husband and father inspired by life and asks the world to &ldquo;Listen Different!&rdquo;</p>

<p><strong>Dont&eacute; Clark</strong>&nbsp;is a poetic soul &lsquo;nd child of the blues.</p>

<p><strong>Meilani Clay</strong> is a writer, mama and educator from Oakland.</p>

<p><strong>A&aacute;ron B. Heard</strong> is a creative problem solver committed to our collective liberation through the intersection of art, healing and education.</p>

<p><strong>LadiRev</strong> is a poet, educator and healer from Bayview Hunters Point.</p>

<p><strong>Landon Smith</strong> (he/him) is a father, a professor, an introvert and a Black Freighter poet.</p>

<p>Connect:</p>

<p><a href="https://tshakacampbellpoet.com/">Tshaka Campbell &ndash; Website</a> | <a href="https://www.instagram.com/pappatshak/">Tshaka Campbell &ndash; Instagram</a> | <a href="https://www.facebook.com/tshakacampbell/">Tshaka Campbell &ndash; Facebook</a></p>

<p><a href="https://twitter.com/YoFavoritePoet">Dont&eacute; Clark &ndash; Twitter</a> | <a href="https://www.instagram.com/donblak/">Dont&eacute; Clark &ndash; Instagram</a> | <a href="https://www.facebook.com/people/Dont%C3%A9-Clark/100066891004889/?_rdr">Dont&eacute; Clark &ndash; Facebook</a></p>

<p><a href="https://twitter.com/meiclay">Meilani Clay &ndash; Twitter</a> | <a href="https://www.instagram.com/meiclaysol/">Meilani Clay &ndash; Instagram</a></p>

<p><a href="https://www.instagram.com/aaronbheard/">A&aacute;ron B. Heard &ndash; Instagram</a></p>

<p><a href="https://www.instagram.com/ladirev/">LadiRev &ndash; Instagram</a></p>

<p><a href="https://www.instagram.com/thee_lando/?igshid=NTdlMDg3MTY%3D___.YXAzOnNmZHQyOmE6bzoyMDA0MTliMTFjNjc1MWQyNzAwYzE0ODI5NTc4ZTc5NTo2OjkyZWI6ZDk3ZDJjNzViZDRhMjdkOWRjYjZmNTk3OTdjOWI1YWUwMTczYWNhZmY4MmMxMWNkNDM3ZTIyMjhjMWY2MWUxODp0OlQ">Landon Smith &ndash; Instagram</a> | &nbsp;<a href="https://linktr.ee/LSmith2">Landon Smith &ndash; Linktree</a></p>
LOCATION:Main Library - Koret Auditorium
CLASS:PUBLIC
TRANSP:TRANSPARENT
END:VEVENT
BEGIN:VALARM
TRIGGER:-PT1440M
ACTION:DISPLAY
DESCRIPTION:Event Reminder - Performance: The West Revisits Harlem
END:VALARM
END:VCALENDAR