BEGIN:VCALENDAR
VERSION:2.0
PRODID:SFPL Web Calendar
BEGIN:VEVENT
UID:56771@sfpl.org
DTSTAMP:20230428T010000Z
DTSTART:20230428T010000Z
DTEND:20230428T020000Z
SUMMARY:Film: Dances for Camera
DESCRIPTION:<p>San Francisco Dance Film Festival (SFDFF)&nbsp;and San Francisco Public Library continue the tradition of presenting&nbsp;the festival's&nbsp;popular highlight reels. This year SFDFF&nbsp;showcases&nbsp;the Raising Voices program featuring&nbsp;moving stories of immigration, colonialism&nbsp;and the search for cultural identity. Makers from diverse backgrounds champion their causes through a provocative collision of dance, storytelling, poetry and music.</p>

<p><strong>Connect:</strong></p>

<p><a href="https://sfdancefilmfest.org/">San Francisco Dance Film Festival - Website</a>&nbsp;|&nbsp;<a href="https://vimeo.com/sfdff">San Francisco Dance Film Festival - Vimeo</a></p>

<p><a href="https://www.instagram.com/sfdancefilmfest/">San Francisco Dance Film Festival - Instagram</a>&nbsp;|&nbsp;<a href="https://www.facebook.com/SFDanceFilmFest">San Francisco Dance Film Festival - Facebook</a></p>
LOCATION:Main Library - Koret Auditorium
CLASS:PUBLIC
TRANSP:TRANSPARENT
END:VEVENT
BEGIN:VALARM
TRIGGER:-PT1440M
ACTION:DISPLAY
DESCRIPTION:Event Reminder - Film: Dances for Camera
END:VALARM
END:VCALENDAR