BEGIN:VCALENDAR
VERSION:2.0
PRODID:SFPL Web Calendar
BEGIN:VEVENT
UID:56787@sfpl.org
DTSTAMP:20230425T020000Z
DTSTART:20230425T020000Z
DTEND:20230425T030000Z
SUMMARY:Book Club: Dry by Neal and Jarrod Shusterman
DESCRIPTION:<p>We discuss SFPL&rsquo;s <a href="https://sfpl.org/books-and-media/read"><u>On the Same Page</u></a> book selection for March/April, <a href="https://sfpl.bibliocommons.com/v2/record/S93C3604459"><em><u>Dry</u></em></a> by Neal and Jarrod Shusterman.&nbsp;</p>

<p>There is something oddly reassuring about experiencing a disaster that is not the one you are living. Neal and Jarrod Shusterman bring us that what-if disaster in the form of an extended drought in Southern California. The government has toned down the truth about how dire the water supply is, calling it, &ldquo;The Tap Out.&rdquo; Soon after, the faucets are dry and the countdown to survive begins.&nbsp;</p>

<p>Alyssa and her 10-year-old brother, Garrett, team up with neighbor Kelton, whose family has prepared for doomsday. When the Tap Out hits, eccentric Jacqui joins the trio, making for a haphazard group on a road trip hunt for water.&nbsp;</p>

<p>As threads of civilized society begin to fray and stores of bottled water run&nbsp;out, could altruism and ingenuity be the keys to survival?&nbsp;</p>

<p>&ldquo;People might do whatever they can to survive, but once they don&rsquo;t have to worry about that, they&rsquo;re different.&rdquo;&nbsp;</p>

<p><a href="https://sfpl.bibliocommons.com/v2/search?query=Shusterman%2C%20Neal&searchType=author"><u>Shusterman</u></a> wrote <em>Dry </em>with his son Jarrod. In addition to being on numerous award lists, <em>Dry </em>is currently in development with Paramount Pictures.&nbsp;</p>

<p>Neal Shusterman is an award-winning and New York Times best-selling author of over thirty novels for children, teens, and adults. His novel, <em>Unwind</em>, has become part of the literary canon in many school districts across the country and has won more than thirty domestic and international awards.&nbsp;</p>

<p>&nbsp;</p>
LOCATION:Virtual Library
CLASS:PUBLIC
TRANSP:TRANSPARENT
END:VEVENT
BEGIN:VALARM
TRIGGER:-PT1440M
ACTION:DISPLAY
DESCRIPTION:Event Reminder - Book Club: Dry by Neal and Jarrod Shusterman
END:VALARM
END:VCALENDAR