BEGIN:VCALENDAR
VERSION:2.0
PRODID:SFPL Web Calendar
BEGIN:VEVENT
UID:56844@sfpl.org
DTSTAMP:20230503T013000Z
DTSTART:20230503T013000Z
DTEND:20230503T023000Z
SUMMARY:Social: North Beach Vinyl Club
DESCRIPTION:<p>Listen to records with us every 1st Tuesday of the month.&nbsp;<a href="https://forms.office.com/g/H7D50nbTuM">Play music</a>&nbsp;for the group from your own vinyl collection or the <a href="https://sfpl.bibliocommons.com/v2/search?custom_edit=false&query=formatcode%3A%28LP+%29&searchType=bl&suppress=true">collection at SFPL</a>, or just come to listen.&nbsp;No registration required. Call us&nbsp;at 415-355-5626&nbsp;for more details.</p>
LOCATION:North Beach - North Beach Library Community Room
CLASS:PUBLIC
TRANSP:TRANSPARENT
END:VEVENT
BEGIN:VALARM
TRIGGER:-PT1440M
ACTION:DISPLAY
DESCRIPTION:Event Reminder - Social: North Beach Vinyl Club
END:VALARM
END:VCALENDAR