BEGIN:VCALENDAR
VERSION:2.0
PRODID:SFPL Web Calendar
BEGIN:VEVENT
UID:56849@sfpl.org
DTSTAMP:20230513T200000Z
DTSTART:20230513T200000Z
DTEND:20230513T210000Z
SUMMARY:Workshop: Insect Discovery Lab
DESCRIPTION:<p>Handle rare insects as you learn about their extraordinarily diverse worlds. For ages 5 &ndash;13.</p>

<p>Space limited. Reservations required: (415) 355-2898.</p>
LOCATION:Ingleside - Ingleside Meeting Room
CLASS:PUBLIC
TRANSP:TRANSPARENT
END:VEVENT
BEGIN:VALARM
TRIGGER:-PT1440M
ACTION:DISPLAY
DESCRIPTION:Event Reminder - Workshop: Insect Discovery Lab
END:VALARM
END:VCALENDAR