BEGIN:VCALENDAR
VERSION:2.0
PRODID:SFPL Web Calendar
BEGIN:VEVENT
UID:56933@sfpl.org
DTSTAMP:20230430T210000Z
DTSTART:20230430T210000Z
DTEND:20230430T223000Z
SUMMARY:Workshop: Mini Birdhouse Painting
DESCRIPTION:<p>Create a colorful birdhouse&nbsp;with paint and stickers&nbsp;to gift to&nbsp;friends, family or yourself.&nbsp;</p>

<p>Space limited.</p>
LOCATION:Bayview/Linda Brooks-Burton - Bayview Meeting Room
CLASS:PUBLIC
TRANSP:TRANSPARENT
END:VEVENT
BEGIN:VALARM
TRIGGER:-PT1440M
ACTION:DISPLAY
DESCRIPTION:Event Reminder - Workshop: Mini Birdhouse Painting
END:VALARM
END:VCALENDAR