BEGIN:VCALENDAR
VERSION:2.0
PRODID:SFPL Web Calendar
BEGIN:VEVENT
UID:57118@sfpl.org
DTSTAMP:20230503T000000Z
DTSTART:20230503T000000Z
DTEND:20230503T010000Z
SUMMARY:Speaker: Deanne Liu of APEN
DESCRIPTION:<p>Deanne Liu (they/them) is APEN's Oakland Political Coordinator, and will speak on environmental justice issues in California. Liu will discuss past campaigns and current work.&nbsp;</p>

<p>Asian Pacific Environmental Network (APEN) is an environmental justice organization with deep roots in California&rsquo;s Asian immigrant and refugee communities &nbsp;Since 1993, they&rsquo;ve built a membership base of Laotian refugees in Richmond and Chinese immigrants in Oakland.</p>

<p>Connect:</p>

<p><a href="https://url.avanan.click/v2/___https://twitter.com/apen4ej?lang=en___.YXAzOnNmZHQyOmE6bzpkYzRmMmRiNDdlZDZjOTczMmRlYWRhY2U3NWNlMTAyNTo2OjIwYTg6NWUwZDVhM2ZiYmRmYTFmM2IyNWJmNTQwZDA1YjFlNmJkODhmZDQ3ODBlNGM5NmIwY2JmNjQxZWE2N2U1YTYwZDpoOlQ">APEN - Twitter</a> | <a href="https://url.avanan.click/v2/___https://www.instagram.com/apen4ej/?hl=en___.YXAzOnNmZHQyOmE6bzpkYzRmMmRiNDdlZDZjOTczMmRlYWRhY2U3NWNlMTAyNTo2OjI1M2U6M2RmMTU0ZDY3MWMzZjdmYjEyMzUxN2ZmM2Y2OTBkMWFiZmFiMmY3YTdkYTU0ODFlODMzZGI2MDA1ZmQ3ODc4MjpoOlQ">APEN - Instagram</a> | <a href="https://url.avanan.click/v2/___https://apen4ej.medium.com/___.YXAzOnNmZHQyOmE6bzpkYzRmMmRiNDdlZDZjOTczMmRlYWRhY2U3NWNlMTAyNTo2OjgxYTc6NWRmNmRmNmUyZWNiNzEyMzE4Mjg1MDk5ZDU4ZTMxYWM3ODM4ZjdmNWM0ZTkwMWQ4ZGZhMGRkMmY2YWNjNWI3OTpoOlQ">APEN - Medium</a> | <a href="https://www.facebook.com/APEN4EJ/">APEN - Facebook</a></p>
LOCATION:Virtual Library
CLASS:PUBLIC
TRANSP:TRANSPARENT
END:VEVENT
BEGIN:VALARM
TRIGGER:-PT1440M
ACTION:DISPLAY
DESCRIPTION:Event Reminder - Speaker: Deanne Liu of APEN
END:VALARM
END:VCALENDAR