BEGIN:VCALENDAR
VERSION:2.0
PRODID:SFPL Web Calendar
BEGIN:VEVENT
UID:57415@sfpl.org
DTSTAMP:20230525T200000Z
DTSTART:20230525T200000Z
DTEND:20230525T210000Z
SUMMARY:Workshop: Felt Fortune Cookies
DESCRIPTION:<p>Make cute felt fortune cookes and personalize them with your own fortunes.</p>

<p>Space limited. Reservations required: (415) 355-5700.</p>
LOCATION:Ortega - Ortega Meeting Room
CLASS:PUBLIC
TRANSP:TRANSPARENT
END:VEVENT
BEGIN:VALARM
TRIGGER:-PT1440M
ACTION:DISPLAY
DESCRIPTION:Event Reminder - Workshop: Felt Fortune Cookies
END:VALARM
END:VCALENDAR