BEGIN:VCALENDAR
VERSION:2.0
PRODID:SFPL Web Calendar
BEGIN:VEVENT
UID:57553@sfpl.org
DTSTAMP:20230526T010000Z
DTSTART:20230526T010000Z
DTEND:20230526T020000Z
SUMMARY:Author: Dorothy Lazard
DESCRIPTION:<p>In her new memoir, Dorothy Lazard, longtime and now retired librarian, tells a migration story, a Black Power story, a multi-generational family story and a story that celebrates the enduring quest for education and freedom.&nbsp;</p>

<p>We sit down with Lazard to discuss her new book,&nbsp;<em>What You Don&rsquo;t Know Will Make a Whole New World. </em>We talk about&nbsp;her love of San Francisco and Oakland, her career in libraries and how reading transformed her&nbsp;life. The deeply beloved and now retired doyenne of the Oakland Public Library system, Lazard built a career carrying the torch for the potent role of libraries as a haven for youth, the&nbsp;ever-curious, the underserved and the often marginalized. &nbsp;</p>

<p><strong>Dorothy Lazard</strong> was born in St. Louis and grew up in San Francisco and Oakland. A librarian for nearly forty years, she joined the staff of the Oakland Public Library (OPL)&nbsp; in 2000. From 2009 until her retirement in 2021, she was the head librarian of OPL&rsquo;s Oakland History Center, where she encouraged people of all ages and backgrounds to explore local history. Beloved by her Bay Area community, she has been an indispensable resource for journalists, library patrons, and all the ever-curious that have crossed the threshold of OPL, and has featured in conversations on the history of Oakland and her own work in Oaklandside, KQED, and NBC Bay Area among others. She lives in Oakland.&nbsp;</p>
LOCATION:Main Library - African American Center Exhibit Space - 3rd Fl
CLASS:PUBLIC
TRANSP:TRANSPARENT
END:VEVENT
BEGIN:VALARM
TRIGGER:-PT1440M
ACTION:DISPLAY
DESCRIPTION:Event Reminder - Author: Dorothy Lazard
END:VALARM
END:VCALENDAR