BEGIN:VCALENDAR
VERSION:2.0
PRODID:SFPL Web Calendar
BEGIN:VEVENT
UID:57571@sfpl.org
DTSTAMP:20230517T223000Z
DTSTART:20230517T223000Z
DTEND:20230518T000000Z
SUMMARY:Activity: Teen Book Swap 免費圖書交換寫書評
DESCRIPTION:<p>Get a free book for a review. Choose from a special selection of books - new, old and ones that have yet to be published. For&nbsp;ages 12&ndash;18.</p>

<p>可得到免費圖書,寫讀後心得. 從一些特別選擇的書籍中挑選,有新書,舊書以及尚未出版的書. 年齡為十二至十八歲.</p>
LOCATION:Chinatown/Him Mark Lai - Chinatown Meeting Room
CLASS:PUBLIC
TRANSP:TRANSPARENT
END:VEVENT
BEGIN:VALARM
TRIGGER:-PT1440M
ACTION:DISPLAY
DESCRIPTION:Event Reminder - Activity: Teen Book Swap 免費圖書交換寫書評
END:VALARM
END:VCALENDAR