BEGIN:VCALENDAR
VERSION:2.0
PRODID:SFPL Web Calendar
BEGIN:VEVENT
UID:57619@sfpl.org
DTSTAMP:20230511T180000Z
DTSTART:20230511T180000Z
DTEND:20230511T193000Z
SUMMARY:Presentation: Introduction to Finding Grants
DESCRIPTION:<p>Discover what funders are looking for in nonprofits seeking grants and how to find potential funders in this introductory course.</p>
LOCATION:Virtual Library
CLASS:PUBLIC
TRANSP:TRANSPARENT
END:VEVENT
BEGIN:VALARM
TRIGGER:-PT1440M
ACTION:DISPLAY
DESCRIPTION:Event Reminder - Presentation: Introduction to Finding Grants
END:VALARM
END:VCALENDAR