BEGIN:VCALENDAR
VERSION:2.0
PRODID:SFPL Web Calendar
BEGIN:VEVENT
UID:57895@sfpl.org
DTSTAMP:20230429T210000Z
DTSTART:20230429T210000Z
DTEND:20230429T230000Z
SUMMARY:Workshop: Tie-Dye Shirts
DESCRIPTION:<p>Experiment with tie-dye and add a&nbsp;bit of color&nbsp;to your wardrobe.</p>

<p>Space limited.&nbsp;Reservations required: (415) 355-5757.</p>
LOCATION:Bayview/Linda Brooks-Burton - Bayview Meeting Room
CLASS:PUBLIC
TRANSP:TRANSPARENT
END:VEVENT
BEGIN:VALARM
TRIGGER:-PT1440M
ACTION:DISPLAY
DESCRIPTION:Event Reminder - Workshop: Tie-Dye Shirts
END:VALARM
END:VCALENDAR