BEGIN:VCALENDAR
VERSION:2.0
PRODID:SFPL Web Calendar
BEGIN:VEVENT
UID:57954@sfpl.org
DTSTAMP:20230507T223000Z
DTSTART:20230507T223000Z
DTEND:20230507T233000Z
SUMMARY:Book Club: Eureka Valley Reads Anthony Veasna So's Afterparties
DESCRIPTION:<p>We discuss Anthony Veasna So&rsquo;s <a href="https://sfpl.bibliocommons.com/v2/record/S93C4808135"><em>Afterparties</em></a>, a story collection centering the Cambodian-American and LGBTQ communities of the California Central Valley.&nbsp;</p>

<p>This meeting is part of SFPL's participation in the&nbsp;<a href="https://www.yiddishbookcenter.org/">Yiddish Book Center&rsquo;s</a> &ldquo;Stories of Exile&rdquo; Reading Groups for Public Libraries,&nbsp;a reading and discussion program to engage teens and adults in thinking about experiences of displacement, migration, and diaspora. In this program, librarians organize reading groups to discuss three books of Yiddish literature in translation, and one book related to the experience of a community served by their library.&nbsp;The Yiddish Book Center&rsquo;s &ldquo;Stories of Exile&rdquo; Reading Groups for Public Libraries is made possible by a gift from Sharon Karmazin.&nbsp;</p>

<p>Connect: <a href="https://www.yiddishbookcenter.org/language-literature-culture/reading-groups-public-libraries">Yiddish Book Center Reading Groups for Public Libraries</a></p>
LOCATION:Eureka Valley/Harvey Milk Memorial - Eureka Valley General Floor Area
CLASS:PUBLIC
TRANSP:TRANSPARENT
END:VEVENT
BEGIN:VALARM
TRIGGER:-PT1440M
ACTION:DISPLAY
DESCRIPTION:Event Reminder - Book Club: Eureka Valley Reads Anthony Veasna So's Afterparties
END:VALARM
END:VCALENDAR