BEGIN:VCALENDAR
VERSION:2.0
PRODID:SFPL Web Calendar
BEGIN:VEVENT
UID:57977@sfpl.org
DTSTAMP:20230520T203000Z
DTSTART:20230520T203000Z
DTEND:20230520T213000Z
SUMMARY:Author: The Discovery of Ramen
DESCRIPTION:<p>Learn about the history of the ramen noodle with one of the authors of<em> The Discovery of Ramen,</em> written by Phil Amara&nbsp;and Olive Chin, and illustrated by Juan Calle. Oliver Chin will take you on a journey, back in time with three characters who discover how the famous ramen noodle was discovered.</p>

<p>There will be a visual history lesson, storytelling, time for audience questions&nbsp;and an&nbsp;activity.</p>
LOCATION:Excelsior - Excelsior Meeting Room
CLASS:PUBLIC
TRANSP:TRANSPARENT
END:VEVENT
BEGIN:VALARM
TRIGGER:-PT1440M
ACTION:DISPLAY
DESCRIPTION:Event Reminder - Author: The Discovery of Ramen
END:VALARM
END:VCALENDAR