BEGIN:VCALENDAR
VERSION:2.0
PRODID:SFPL Web Calendar
BEGIN:VEVENT
UID:58133@sfpl.org
DTSTAMP:20230526T014500Z
DTSTART:20230526T014500Z
DTEND:20230526T024500Z
SUMMARY:Book Club: Mother-Daughter, Tricia Springstubb's The Most Perfect Thing
DESCRIPTION:<p>We will be discussing <em><a href="https://sfpl.bibliocommons.com/v2/record/S93C4805345">The Most Perfect Thing in the Universe</a></em> by Tricia Springstubb. A story&nbsp;about an eleven-year old homebody whose mother is a noted ornithologist who travels the world. For girls ages 9&ndash;12 with a favorite adult.</p>

<p><a href="https://sfpl.bibliocommons.com/list/share/386267898/478146975">SFPL West Portal Mother-Daughter Bookclub Suggested Titles</a></p>
LOCATION:West Portal - West Portal Children's Area
CLASS:PUBLIC
TRANSP:TRANSPARENT
END:VEVENT
BEGIN:VALARM
TRIGGER:-PT1440M
ACTION:DISPLAY
DESCRIPTION:Event Reminder - Book Club: Mother-Daughter, Tricia Springstubb's The Most Perfect Thing
END:VALARM
END:VCALENDAR