BEGIN:VCALENDAR
VERSION:2.0
PRODID:SFPL Web Calendar
BEGIN:VEVENT
UID:58137@sfpl.org
DTSTAMP:20230511T200000Z
DTSTART:20230511T200000Z
DTEND:20230511T220000Z
SUMMARY:Services: Money for Home Internet — ACP Enrollment
DESCRIPTION:<p>SF Tech Council volunteers will help you sign up for the <a href="https://www.fcc.gov/acp">Affordable Connectivity Program</a>, which provides $30/month for home internet for eligible households. To sign up for ACP during the event, you must bring the following items:&nbsp;</p>

<p>►Identity document (one of the following):</p>

<p>&bull; U.S. Driver's License&nbsp;</p>

<p>&bull; Government ID: State ID, U.S Military ID</p>

<p>&bull; Passport (current from any country)</p>

<p>&bull; Individual Taxpayer ID number</p>

<p>&bull; Matricula or Visa Consular Card</p>

<p>&bull; Birth Certificate (any country) for the minor that is the Benefit Qualifying Person (BQP)</p>

<p>►Eligibility document (one of the following):</p>

<p>&bull; Monthly statement from Medi&ndash;Cal, Cal Fresh, WIC</p>

<p>&bull; Proof of participation in National School Lunch Program (NSLP) at CEP designated school</p>

<p><strong>Attendees will be entered for a chance to win a free device.</strong></p>

<p><strong>參加者將有機會贏取翻新手提電腦。</strong></p>

<p><strong>Asistentes seran ingresados para ganar una computadora port&aacute;til restaurada.</strong></p>

<p>Connect: SF Tech Council <a href="https://www.sftechcouncil.org/">website</a> | <a href="https://twitter.com/sftechcouncil?lang=en">Twitter</a> | <a href="https://www.linkedin.com/company/sftechcouncil/?viewAsMember=true">LinkedIn</a></p>

<p>&nbsp;</p>
LOCATION:Main Library - Latino/Hispanic Meeting Room A
CLASS:PUBLIC
TRANSP:TRANSPARENT
END:VEVENT
BEGIN:VALARM
TRIGGER:-PT1440M
ACTION:DISPLAY
DESCRIPTION:Event Reminder - Services: Money for Home Internet — ACP Enrollment
END:VALARM
END:VCALENDAR