BEGIN:VCALENDAR
VERSION:2.0
PRODID:SFPL Web Calendar
BEGIN:VEVENT
UID:58141@sfpl.org
DTSTAMP:20230506T210000Z
DTSTART:20230506T210000Z
DTEND:20230506T223000Z
SUMMARY:Activity: Paper Hearts Craft
DESCRIPTION:<p>Learn step-by-step instructions to make a unique paper flower heart with Dana Fong. Library patrons will be able to use their creativity and hand motor skills to craft and learn basic&nbsp;paper folding and the art of origami.&nbsp;</p>

<p>&nbsp;</p>

<p>Space&nbsp;limited. Reservations required:&nbsp;(415) 355-2868.</p>
LOCATION:Excelsior - Excelsior Meeting Room
CLASS:PUBLIC
TRANSP:TRANSPARENT
END:VEVENT
BEGIN:VALARM
TRIGGER:-PT1440M
ACTION:DISPLAY
DESCRIPTION:Event Reminder - Activity: Paper Hearts Craft
END:VALARM
END:VCALENDAR