BEGIN:VCALENDAR
VERSION:2.0
PRODID:SFPL Web Calendar
BEGIN:VEVENT
UID:58149@sfpl.org
DTSTAMP:20230524T170000Z
DTSTART:20230524T170000Z
DTEND:20230524T183000Z
SUMMARY:Activity: Chinatown Walking Tour
DESCRIPTION:<p>In this guided walking tour you will learn about the history of Chinatown, hidden alleys, temples and local food which all contribute to the vibrancy of SF's Chinatown. The tour is an hour and half (or 90 minutes) in length&nbsp;and a mile in distance. There are slight hills and uneven surfaces. Meet in front of the Chinatown Branch Library, 1135 Powell Street (at Jackson St.).</p>

<p>Space limited. Reservations required:&nbsp;(415) 355-2888.</p>
LOCATION:Chinatown/Him Mark Lai - Chinatown Meeting Room
CLASS:PUBLIC
TRANSP:TRANSPARENT
END:VEVENT
BEGIN:VALARM
TRIGGER:-PT1440M
ACTION:DISPLAY
DESCRIPTION:Event Reminder - Activity: Chinatown Walking Tour
END:VALARM
END:VCALENDAR