BEGIN:VCALENDAR
VERSION:2.0
PRODID:SFPL Web Calendar
BEGIN:VEVENT
UID:58200@sfpl.org
DTSTAMP:20230429T180000Z
DTSTART:20230429T180000Z
DTEND:20230429T190000Z
SUMMARY:Performance: Irish Music and Storytelling
DESCRIPTION:<p>Local musician and teacher&nbsp;Susan&nbsp;Spurlock, flute player Ben Saylor, and dancer Dierdre Stretton, will share their love of Irish music and tales through playing a variety of instruments, accompanied by storytelling and audience participation.</p>
LOCATION:Anza - Anza Meeting Room
CLASS:PUBLIC
TRANSP:TRANSPARENT
END:VEVENT
BEGIN:VALARM
TRIGGER:-PT1440M
ACTION:DISPLAY
DESCRIPTION:Event Reminder - Performance: Irish Music and Storytelling
END:VALARM
END:VCALENDAR